BEGIN:VCALENDAR
VERSION:2.0
PRODID:-//Alcántara Cosmética - ECPv6.15.17.1//NONSGML v1.0//EN
CALSCALE:GREGORIAN
METHOD:PUBLISH
X-WR-CALNAME:Alcántara Cosmética
X-ORIGINAL-URL:https://alcantaracosmetica.com
X-WR-CALDESC:Eventos para Alcántara Cosmética
REFRESH-INTERVAL;VALUE=DURATION:PT1H
X-Robots-Tag:noindex
X-PUBLISHED-TTL:PT1H
BEGIN:VTIMEZONE
TZID:Europe/Madrid
BEGIN:DAYLIGHT
TZOFFSETFROM:+0100
TZOFFSETTO:+0200
TZNAME:CEST
DTSTART:20240331T010000
END:DAYLIGHT
BEGIN:STANDARD
TZOFFSETFROM:+0200
TZOFFSETTO:+0100
TZNAME:CET
DTSTART:20241027T010000
END:STANDARD
BEGIN:DAYLIGHT
TZOFFSETFROM:+0100
TZOFFSETTO:+0200
TZNAME:CEST
DTSTART:20250330T010000
END:DAYLIGHT
BEGIN:STANDARD
TZOFFSETFROM:+0200
TZOFFSETTO:+0100
TZNAME:CET
DTSTART:20251026T010000
END:STANDARD
BEGIN:DAYLIGHT
TZOFFSETFROM:+0100
TZOFFSETTO:+0200
TZNAME:CEST
DTSTART:20260329T010000
END:DAYLIGHT
BEGIN:STANDARD
TZOFFSETFROM:+0200
TZOFFSETTO:+0100
TZNAME:CET
DTSTART:20261025T010000
END:STANDARD
END:VTIMEZONE
BEGIN:VEVENT
DTSTART;TZID=Europe/Madrid:20250407T090000
DTEND;TZID=Europe/Madrid:20250407T140000
DTSTAMP:20260419T234229
CREATED:20250317T162254Z
LAST-MODIFIED:20250324T120726Z
UID:10000023-1744016400-1744034400@alcantaracosmetica.com
SUMMARY:SALAMANCA
DESCRIPTION:Taller sobre Recogidos impartido por Esther Gil \nInformación y contacto: \n\n\n\nVICEN PÉREZ: 616 098 421\nÁNGEL JIMÉNEZ: 663 650 556\n\n\n\n 
URL:https://alcantaracosmetica.com/event/salamanca-recogidos/
LOCATION:Centro técnico Alcantara\, C. Julián Besteiro\, 1\, Santa Marta de Tormes\, Salamanca\, 37900
CATEGORIES:Formaciones
ATTACH;FMTTYPE=image/webp:https://alcantaracosmetica.com/wp-content/uploads/2025/03/Formacion-sobre-recogidos-Esther-Gil-1.webp
END:VEVENT
BEGIN:VEVENT
DTSTART;TZID=Europe/Madrid:20250428T090000
DTEND;TZID=Europe/Madrid:20250428T150000
DTSTAMP:20260419T234229
CREATED:20250331T153812Z
LAST-MODIFIED:20250331T153828Z
UID:10000024-1745830800-1745852400@alcantaracosmetica.com
SUMMARY:MALAGA
DESCRIPTION:Taller sobre Recogidos impartido por Esther Gil \nInformación y contacto: \n\n\n\nANAJAFO (EVA): 606 823 027
URL:https://alcantaracosmetica.com/event/malaga-recogidos/
LOCATION:Sala técnica Anafajo Málaga\, Calle Suerte\, 3\, Nave 3\, Pizarra\, Málaga\, 29560\, España
CATEGORIES:Formaciones
ATTACH;FMTTYPE=image/webp:https://alcantaracosmetica.com/wp-content/uploads/2025/03/Taller-de-recogidos-Malaga.webp
END:VEVENT
END:VCALENDAR