BEGIN:VCALENDAR
VERSION:2.0
PRODID:-//Alcántara Cosmética - ECPv6.15.17.1//NONSGML v1.0//EN
CALSCALE:GREGORIAN
METHOD:PUBLISH
X-WR-CALNAME:Alcántara Cosmética
X-ORIGINAL-URL:https://alcantaracosmetica.com
X-WR-CALDESC:Eventos para Alcántara Cosmética
REFRESH-INTERVAL;VALUE=DURATION:PT1H
X-Robots-Tag:noindex
X-PUBLISHED-TTL:PT1H
BEGIN:VTIMEZONE
TZID:Europe/Madrid
BEGIN:DAYLIGHT
TZOFFSETFROM:+0100
TZOFFSETTO:+0200
TZNAME:CEST
DTSTART:20240331T010000
END:DAYLIGHT
BEGIN:STANDARD
TZOFFSETFROM:+0200
TZOFFSETTO:+0100
TZNAME:CET
DTSTART:20241027T010000
END:STANDARD
BEGIN:DAYLIGHT
TZOFFSETFROM:+0100
TZOFFSETTO:+0200
TZNAME:CEST
DTSTART:20250330T010000
END:DAYLIGHT
BEGIN:STANDARD
TZOFFSETFROM:+0200
TZOFFSETTO:+0100
TZNAME:CET
DTSTART:20251026T010000
END:STANDARD
BEGIN:DAYLIGHT
TZOFFSETFROM:+0100
TZOFFSETTO:+0200
TZNAME:CEST
DTSTART:20260329T010000
END:DAYLIGHT
BEGIN:STANDARD
TZOFFSETFROM:+0200
TZOFFSETTO:+0100
TZNAME:CET
DTSTART:20261025T010000
END:STANDARD
END:VTIMEZONE
BEGIN:VEVENT
DTSTART;TZID=Europe/Madrid:20250603T093000
DTEND;TZID=Europe/Madrid:20250603T143000
DTSTAMP:20260419T205441
CREATED:20250515T121851Z
LAST-MODIFIED:20250516T074046Z
UID:10000027-1748943000-1748961000@alcantaracosmetica.com
SUMMARY:VALENCIA
DESCRIPTION:Masterclass sobre Corte y Color impartido por Alejandro Cantano y Andrea Mateos \nInformación y contacto: \n\nHEGMON : 636 975 055
URL:https://alcantaracosmetica.com/event/valencia-corte-y-color/
LOCATION:Sala de eventos Culaccino\, C. de Puerto Rico\, 48\, Bajo Derecha\, Valencia\, Valencia\, 46006\, Spain
CATEGORIES:Formaciones
ATTACH;FMTTYPE=image/webp:https://alcantaracosmetica.com/wp-content/uploads/2025/05/Alcantara-P-Formaciones-2.webp
END:VEVENT
END:VCALENDAR